BEGIN:VCALENDAR
VERSION:2.0
PRODID:-//UWG Meinerzhagen - ECPv6.15.20//NONSGML v1.0//EN
CALSCALE:GREGORIAN
METHOD:PUBLISH
X-WR-CALNAME:UWG Meinerzhagen
X-ORIGINAL-URL:https://uwg-meinerzhagen.de
X-WR-CALDESC:Veranstaltungen für UWG Meinerzhagen
REFRESH-INTERVAL;VALUE=DURATION:PT1H
X-Robots-Tag:noindex
X-PUBLISHED-TTL:PT1H
BEGIN:VTIMEZONE
TZID:Europe/Paris
BEGIN:DAYLIGHT
TZOFFSETFROM:+0100
TZOFFSETTO:+0200
TZNAME:CEST
DTSTART:20240331T010000
END:DAYLIGHT
BEGIN:STANDARD
TZOFFSETFROM:+0200
TZOFFSETTO:+0100
TZNAME:CET
DTSTART:20241027T010000
END:STANDARD
BEGIN:DAYLIGHT
TZOFFSETFROM:+0100
TZOFFSETTO:+0200
TZNAME:CEST
DTSTART:20250330T010000
END:DAYLIGHT
BEGIN:STANDARD
TZOFFSETFROM:+0200
TZOFFSETTO:+0100
TZNAME:CET
DTSTART:20251026T010000
END:STANDARD
BEGIN:DAYLIGHT
TZOFFSETFROM:+0100
TZOFFSETTO:+0200
TZNAME:CEST
DTSTART:20260329T010000
END:DAYLIGHT
BEGIN:STANDARD
TZOFFSETFROM:+0200
TZOFFSETTO:+0100
TZNAME:CET
DTSTART:20261025T010000
END:STANDARD
BEGIN:DAYLIGHT
TZOFFSETFROM:+0100
TZOFFSETTO:+0200
TZNAME:CEST
DTSTART:20270328T010000
END:DAYLIGHT
BEGIN:STANDARD
TZOFFSETFROM:+0200
TZOFFSETTO:+0100
TZNAME:CET
DTSTART:20271031T010000
END:STANDARD
END:VTIMEZONE
BEGIN:VEVENT
DTSTART;TZID=Europe/Paris:20260422T180000
DTEND;TZID=Europe/Paris:20260422T190000
DTSTAMP:20260423T134238
CREATED:20260105T134813Z
LAST-MODIFIED:20260105T134831Z
UID:14668-1776880800-1776884400@uwg-meinerzhagen.de
SUMMARY:22.04.2026 | 18:00 - 19:00 | Telefonsprechstunde mit Eduard Birt
DESCRIPTION:Datum/Zeit22/04/202618:00 – 19:00 \nUWG-Telefonsprechstunde mit Eduard Birt unter 0157 – 719 702 43  
URL:https://uwg-meinerzhagen.de/event/22-04-2026-1800-1900-telefonsprechstunde-mit-eduard-birt/
CATEGORIES:Telefonsprechstunde
END:VEVENT
BEGIN:VEVENT
DTSTART;TZID=Europe/Paris:20260416T170000
DTEND;TZID=Europe/Paris:20260416T180000
DTSTAMP:20260423T134238
CREATED:20260105T134636Z
LAST-MODIFIED:20260105T134655Z
UID:14665-1776358800-1776362400@uwg-meinerzhagen.de
SUMMARY:16.04.2026 | 17:00 - 18:00 | Telefonsprechstunde mit Lukas Gierak
DESCRIPTION:Datum/Zeit16/04/202617:00 – 18:00 \nUWG-Telefonsprechstunde mit Lukas Gierak unter 0175 – 958 31 02  
URL:https://uwg-meinerzhagen.de/event/16-04-2026-1700-1800-telefonsprechstunde-mit-lukas-gierak/
CATEGORIES:Telefonsprechstunde
END:VEVENT
BEGIN:VEVENT
DTSTART;TZID=Europe/Paris:20260408T180000
DTEND;TZID=Europe/Paris:20260408T190000
DTSTAMP:20260423T134238
CREATED:20260105T134443Z
LAST-MODIFIED:20260105T134503Z
UID:14662-1775671200-1775674800@uwg-meinerzhagen.de
SUMMARY:08.04.2026 | 18:00 - 19:00 | Telefonsprechstunde mit Anja Willms
DESCRIPTION:Datum/Zeit08/04/202618:00 – 19:00 \nUWG-Telefonsprechstunde mit Anja Willms unter 0174 – 947 62 65  
URL:https://uwg-meinerzhagen.de/event/08-04-2026-1800-1900-telefonsprechstunde-mit-anja-willms/
CATEGORIES:Telefonsprechstunde
END:VEVENT
BEGIN:VEVENT
DTSTART;TZID=Europe/Paris:20260402T170000
DTEND;TZID=Europe/Paris:20260402T180000
DTSTAMP:20260423T134238
CREATED:20260105T133825Z
LAST-MODIFIED:20260105T134158Z
UID:14652-1775149200-1775152800@uwg-meinerzhagen.de
SUMMARY:02.04.2026 | 17:00 - 18:00 | Telefonsprechstunde mit Lukas Gierak
DESCRIPTION:Datum/Zeit02/04/202617:00 – 18:00 \nUWG-Telefonsprechstunde mit Lukas Gierak unter 0175 – 958 31 02  
URL:https://uwg-meinerzhagen.de/event/25-03-2026-1700-1800-telefonsprechstunde-mit-rainer-biehn/
CATEGORIES:Telefonsprechstunde
END:VEVENT
BEGIN:VEVENT
DTSTART;TZID=Europe/Paris:20260325T170000
DTEND;TZID=Europe/Paris:20260325T180000
DTSTAMP:20260423T134238
CREATED:20260105T142117Z
LAST-MODIFIED:20260105T142119Z
UID:14658-1774458000-1774461600@uwg-meinerzhagen.de
SUMMARY:25.03.2026 | 17:00 - 18:00 | Telefonsprechstunde mit Rainer Biehn
DESCRIPTION:Datum/Zeit25/03/202617:00 – 18:00 \nUWG-Telefonsprechstunde mit Rainer Biehn unter 0151 – 591 039 11  
URL:https://uwg-meinerzhagen.de/event/25-03-2026-1700-1800-telefonsprechstunde-mit-rainer-biehn-2/
CATEGORIES:Telefonsprechstunde
END:VEVENT
BEGIN:VEVENT
DTSTART;TZID=Europe/Paris:20260318T170000
DTEND;TZID=Europe/Paris:20260318T180000
DTSTAMP:20260423T134238
CREATED:20260105T133939Z
LAST-MODIFIED:20260105T134011Z
UID:14655-1773853200-1773856800@uwg-meinerzhagen.de
SUMMARY:18.03.2026 | 17:00 - 18:00 | Telefonsprechstunde mit Petra Biehn
DESCRIPTION:Datum/Zeit18/03/202617:00 – 18:00 \nUWG-Telefonsprechstunde mit Petra Biehn unter 0151 – 561 584 90  
URL:https://uwg-meinerzhagen.de/event/18-03-2026-1700-1800-telefonsprechstunde-mit-petra-biehn/
CATEGORIES:Telefonsprechstunde
END:VEVENT
BEGIN:VEVENT
DTSTART;TZID=Europe/Paris:20260311T170000
DTEND;TZID=Europe/Paris:20260311T180000
DTSTAMP:20260423T134238
CREATED:20260105T133643Z
LAST-MODIFIED:20260105T133738Z
UID:14648-1773248400-1773252000@uwg-meinerzhagen.de
SUMMARY:11.03.2026 | 17:00 - 18:00 | Telefonsprechstunde mit Rainer Biehn
DESCRIPTION:Datum/Zeit11/03/202617:00 – 18:00 \nUWG-Telefonsprechstunde mit Rainer Biehn unter 0151 – 591 039 11  
URL:https://uwg-meinerzhagen.de/event/11-03-2026-1700-1800-telefonsprechstunde-mit-rainer-biehn/
CATEGORIES:Telefonsprechstunde
END:VEVENT
BEGIN:VEVENT
DTSTART;TZID=Europe/Paris:20260305T180000
DTEND;TZID=Europe/Paris:20260305T190000
DTSTAMP:20260423T134238
CREATED:20260105T133500Z
LAST-MODIFIED:20260105T133520Z
UID:14645-1772733600-1772737200@uwg-meinerzhagen.de
SUMMARY:05.03.2026 | 18:00 - 19:00 | Telefonsprechstunde mit Uli Hügenberg
DESCRIPTION:Datum/Zeit05/03/202618:00 – 19:00 \nUWG-Telefonsprechstunde mit Uli Hügenberg unter 0151 – 555 728 22  
URL:https://uwg-meinerzhagen.de/event/05-03-2026-1800-1900-telefonsprechstunde-mit-uli-huegenberg/
CATEGORIES:Telefonsprechstunde
END:VEVENT
BEGIN:VEVENT
DTSTART;TZID=Europe/Paris:20260226T170000
DTEND;TZID=Europe/Paris:20260226T180000
DTSTAMP:20260423T134238
CREATED:20260105T133310Z
LAST-MODIFIED:20260105T133328Z
UID:14642-1772125200-1772128800@uwg-meinerzhagen.de
SUMMARY:26.02.2026 | 17:00 - 18:00 | Telefonsprechstunde mit Florian Rohrmann
DESCRIPTION:Datum/Zeit26/02/202617:00 – 18:00 \nUWG-Telefonsprechstunde mit Florian Rohrmann unter 0176 – 640 700 85  
URL:https://uwg-meinerzhagen.de/event/26-02-2026-1700-1800-telefonsprechstunde-mit-florian-rohrmann/
CATEGORIES:Telefonsprechstunde
END:VEVENT
BEGIN:VEVENT
DTSTART;TZID=Europe/Paris:20260218T180000
DTEND;TZID=Europe/Paris:20260218T190000
DTSTAMP:20260423T134238
CREATED:20260105T133127Z
LAST-MODIFIED:20260105T133150Z
UID:14639-1771437600-1771441200@uwg-meinerzhagen.de
SUMMARY:18.02.2026 | 18:00 - 19:00 | Telefonsprechstunde mit Thomas Breker
DESCRIPTION:Datum/Zeit18/02/202618:00 – 19:00 \nUWG-Telefonsprechstunde mit Thomas Breker unter 0152 – 017 679 49  
URL:https://uwg-meinerzhagen.de/event/18-02-2026-1800-1900-telefonsprechstunde-mit-thomas-breker/
CATEGORIES:Telefonsprechstunde
END:VEVENT
BEGIN:VEVENT
DTSTART;TZID=Europe/Paris:20260211T170000
DTEND;TZID=Europe/Paris:20260211T180000
DTSTAMP:20260423T134238
CREATED:20260105T132854Z
LAST-MODIFIED:20260105T132944Z
UID:14636-1770829200-1770832800@uwg-meinerzhagen.de
SUMMARY:11.02.2026 | 17:00 - 18:00 | Telefonsprechstunde mit Petra Biehn
DESCRIPTION:Datum/Zeit11/02/202617:00 – 18:00 \nUWG-Telefonsprechstunde mit Petra Biehn unter 0151 – 561 584 90 
URL:https://uwg-meinerzhagen.de/event/11-02-2026-1700-1800-telefonsprechstunde-mit-petra-biehn/
CATEGORIES:Telefonsprechstunde
END:VEVENT
BEGIN:VEVENT
DTSTART;TZID=Europe/Paris:20260205T170000
DTEND;TZID=Europe/Paris:20260205T180000
DTSTAMP:20260423T134238
CREATED:20260105T132716Z
LAST-MODIFIED:20260105T132944Z
UID:14633-1770310800-1770314400@uwg-meinerzhagen.de
SUMMARY:05.02.2026 | 17:00 - 18:00 | Telefonsprechstunde mit Florian Rohrmann
DESCRIPTION:Datum/Zeit05/02/202617:00 – 18:00 \nUWG-Telefonsprechstunde mit Florian Rohrmann unter 0176 – 640 700 85 
URL:https://uwg-meinerzhagen.de/event/05-02-2026-1700-1800-telefonsprechstunde-mit-florian-rohrmann/
CATEGORIES:Telefonsprechstunde
END:VEVENT
BEGIN:VEVENT
DTSTART;TZID=Europe/Paris:20260127T170000
DTEND;TZID=Europe/Paris:20260127T180000
DTSTAMP:20260423T134238
CREATED:20260105T132422Z
LAST-MODIFIED:20260105T132437Z
UID:14630-1769533200-1769536800@uwg-meinerzhagen.de
SUMMARY:27.01.2026 | 17:00 - 18:00 | Telefonsprechstunde mit Lukas Gierak
DESCRIPTION:Datum/Zeit27/01/202617:00 – 18:00 \nUWG-Telefonsprechstunde mit Lukas Gierak unter 0175 – 958 31 02 
URL:https://uwg-meinerzhagen.de/event/27-01-2026-1700-1800-telefonsprechstunde-mit-lukas-gierak/
CATEGORIES:Telefonsprechstunde
END:VEVENT
BEGIN:VEVENT
DTSTART;TZID=Europe/Paris:20260122T190000
DTEND;TZID=Europe/Paris:20260122T200000
DTSTAMP:20260423T134238
CREATED:20260105T132219Z
LAST-MODIFIED:20260105T132442Z
UID:14627-1769108400-1769112000@uwg-meinerzhagen.de
SUMMARY:22.01.2026 | 19:00 - 20:00 | Telefonsprechstunde mit Annegret Benger
DESCRIPTION:Datum/Zeit22/01/202619:00 – 20:00 \nUWG-Telefonsprechstunde mit Annegret Benger unter 0157 – 741 672 09 
URL:https://uwg-meinerzhagen.de/event/22-01-2026-1900-2000-telefonsprechstunde-mit-annegret-benger/
CATEGORIES:Telefonsprechstunde
END:VEVENT
BEGIN:VEVENT
DTSTART;TZID=Europe/Paris:20260115T180000
DTEND;TZID=Europe/Paris:20260115T190000
DTSTAMP:20260423T134238
CREATED:20260105T131956Z
LAST-MODIFIED:20260113T142527Z
UID:14624-1768500000-1768503600@uwg-meinerzhagen.de
SUMMARY:15.01.2026 | 18:00 - 19:00 | Telefonsprechstunde mit Ewa Budna
DESCRIPTION:Datum/Zeit15/01/202618:00 – 19:00 \nUWG-Telefonsprechstunde mit Ewa Budna unter 0172 – 957 62 05 
URL:https://uwg-meinerzhagen.de/event/15-01-2026-1800-1900-telefonsprechstunde-mit-ewa-budna/
CATEGORIES:Telefonsprechstunde
END:VEVENT
BEGIN:VEVENT
DTSTART;TZID=Europe/Paris:20260105T180000
DTEND;TZID=Europe/Paris:20260105T190000
DTSTAMP:20260423T134238
CREATED:20260105T131734Z
LAST-MODIFIED:20260105T131752Z
UID:14621-1767636000-1767639600@uwg-meinerzhagen.de
SUMMARY:05.01.2026 | 18:00 - 19:00 | Telefonsprechstunde mit Riccardo Menzel
DESCRIPTION:Datum/Zeit05/01/202618:00 – 19:00 \nUWG-Telefonsprechstunde mit Riccardo Menzel unter 0170 – 925 73 99 
URL:https://uwg-meinerzhagen.de/event/05-01-2026-1800-1900-telefonsprechstunde-mit-riccardo-menzel/
CATEGORIES:Telefonsprechstunde
END:VEVENT
BEGIN:VEVENT
DTSTART;TZID=Europe/Paris:20251217T180000
DTEND;TZID=Europe/Paris:20251217T190000
DTSTAMP:20260423T134238
CREATED:20250630T105333Z
LAST-MODIFIED:20250630T105353Z
UID:14547-1765994400-1765998000@uwg-meinerzhagen.de
SUMMARY:17.12.2025 | 18:00 - 19:00 | Telefonsprechstunde mit Anja Willms
DESCRIPTION:Datum/Zeit17/12/202518:00 – 19:00 \nUWG-Telefonsprechstunde mit Anja Willms unter 0174 – 947 62 65 
URL:https://uwg-meinerzhagen.de/event/17-12-2025-1800-1900-telefonsprechstunde-mit-anja-willms/
CATEGORIES:Telefonsprechstunde
END:VEVENT
BEGIN:VEVENT
DTSTART;TZID=Europe/Paris:20251212T180000
DTEND;TZID=Europe/Paris:20251212T190000
DTSTAMP:20260423T134238
CREATED:20250630T105247Z
LAST-MODIFIED:20250630T105259Z
UID:14544-1765562400-1765566000@uwg-meinerzhagen.de
SUMMARY:12.12.2025 | 18:00 - 19:00 | Telefonsprechstunde mit Raimo Benger
DESCRIPTION:Datum/Zeit12/12/202518:00 – 19:00 \nUWG-Telefonsprechstunde mit Raimo Benger unter 0170 – 569 16 91
URL:https://uwg-meinerzhagen.de/event/12-12-2025-1800-1900-telefonsprechstunde-mit-raimo-benger/
CATEGORIES:Telefonsprechstunde
END:VEVENT
BEGIN:VEVENT
DTSTART;TZID=Europe/Paris:20251204T190000
DTEND;TZID=Europe/Paris:20251204T200000
DTSTAMP:20260423T134238
CREATED:20250505T091859Z
LAST-MODIFIED:20251114T123437Z
UID:14361-1764874800-1764878400@uwg-meinerzhagen.de
SUMMARY:04.12.2025 | 19:00 - 20:00 | Fraktionssitzung
DESCRIPTION:Hier sind alle Interessierten herzlich eingeladen. Senden Sie vorab bitte eine E-Mail an uns.Uhrzeit: 19:00 UhrHaus Hahnenbecke in Meinerzhagen
URL:https://uwg-meinerzhagen.de/event/04-12-2025-1900-2000-fraktionssitzung/
CATEGORIES:Sonstiges
END:VEVENT
BEGIN:VEVENT
DTSTART;TZID=Europe/Paris:20251203T180000
DTEND;TZID=Europe/Paris:20251203T190000
DTSTAMP:20260423T134238
CREATED:20250630T105140Z
LAST-MODIFIED:20250630T105153Z
UID:14541-1764784800-1764788400@uwg-meinerzhagen.de
SUMMARY:03.12.2025 | 18:00 - 19:00 | Telefonsprechstunde mit Lukas Gierak
DESCRIPTION:Datum/Zeit03/12/202518:00 – 19:00 \nUWG-Telefonsprechstunde mit Lukas Gierak unter 0175 – 958 31 02Per E-Mail: l.gierak@uwg-meinerzhagen.de
URL:https://uwg-meinerzhagen.de/event/03-12-2025-1800-1900-telefonsprechstunde-mit-lukas-gierak/
CATEGORIES:Telefonsprechstunde
END:VEVENT
BEGIN:VEVENT
DTSTART;TZID=Europe/Paris:20251127T170000
DTEND;TZID=Europe/Paris:20251127T180000
DTSTAMP:20260423T134238
CREATED:20250903T070909Z
LAST-MODIFIED:20250903T070927Z
UID:14601-1764262800-1764266400@uwg-meinerzhagen.de
SUMMARY:27.11.2025 | 17:00 - 18:00 | Telefonsprechstunde mit Petra Kniese
DESCRIPTION:Datum/Zeit27/11/202517:00 – 18:00 \n\n\n\nUWG-Telefonsprechstunde mit Petra Kniese unter 0176 666 888 49
URL:https://uwg-meinerzhagen.de/event/27-11-2025-1700-1800-telefonsprechstunde-mit-petra-kniese/
END:VEVENT
BEGIN:VEVENT
DTSTART;TZID=Europe/Paris:20251121T170000
DTEND;TZID=Europe/Paris:20251121T180000
DTSTAMP:20260423T134238
CREATED:20250630T104711Z
LAST-MODIFIED:20250630T104713Z
UID:14538-1763744400-1763748000@uwg-meinerzhagen.de
SUMMARY:21.11.2025 | 17:00 - 18:00 | Telefonsprechstunde mit Riccardo Menzel
DESCRIPTION:Datum/Zeit21/11/202517:00 – 18:00 \nUWG-Telefonsprechstunde mit Eduard Birt unter 0170 – 925 73 99 oder per WhatsAppPer E-Mail: r.menzel@uwg-meinerzhagen.de
URL:https://uwg-meinerzhagen.de/event/21-11-2025-1700-1800-telefonsprechstunde-mit-riccardo-menzel/
CATEGORIES:Telefonsprechstunde
END:VEVENT
BEGIN:VEVENT
DTSTART;TZID=Europe/Paris:20251120T190000
DTEND;TZID=Europe/Paris:20251120T200000
DTSTAMP:20260423T134238
CREATED:20250505T091735Z
LAST-MODIFIED:20251114T123555Z
UID:14358-1763665200-1763668800@uwg-meinerzhagen.de
SUMMARY:20.11.2025 | 19:00 - 20:00 | Fraktionssitzung
DESCRIPTION:Datum/Zeit20/11/202519:00 – 20:00Hier sind alle Interessierten herzlich eingeladen. Senden Sie vorab bitte eine E-Mail an uns.Uhrzeit: 19:00 UhrHaus Hahnenbecke in Meinerzhagen
URL:https://uwg-meinerzhagen.de/event/20-11-2025-1900-2000-fraktionssitzung/
CATEGORIES:Sonstiges
END:VEVENT
BEGIN:VEVENT
DTSTART;TZID=Europe/Paris:20251112T180000
DTEND;TZID=Europe/Paris:20251112T190000
DTSTAMP:20260423T134238
CREATED:20250630T104445Z
LAST-MODIFIED:20250630T104500Z
UID:14535-1762970400-1762974000@uwg-meinerzhagen.de
SUMMARY:12.11.2025 | 18:00 - 19:00 | Telefonsprechstunde mit Anja Willms
DESCRIPTION:Datum/Zeit12/11/202518:00 – 19:00 \nUWG-Telefonsprechstunde mit Anja Willms unter 0174 – 947 62 65 
URL:https://uwg-meinerzhagen.de/event/12-11-2025-1800-1900-telefonsprechstunde-mit-anja-willms/
CATEGORIES:Telefonsprechstunde
END:VEVENT
BEGIN:VEVENT
DTSTART;TZID=Europe/Paris:20251106T180000
DTEND;TZID=Europe/Paris:20251106T190000
DTSTAMP:20260423T134238
CREATED:20250630T104229Z
LAST-MODIFIED:20250630T104242Z
UID:14532-1762452000-1762455600@uwg-meinerzhagen.de
SUMMARY:06.11.2025 | 18:00 - 19:00 | Telefonsprechstunde mit Thomas Breker
DESCRIPTION:Datum/Zeit06/11/202518:00 – 19:00 \nUWG-Telefonsprechstunde mit Thomas Breker unter 01520 – 176 79 49 oder per WhatsAppPer E-Mail: t.breker@uwg-meinerzhagen.de
URL:https://uwg-meinerzhagen.de/event/06-11-2025-1800-1900-telefonsprechstunde-mit-thomas-breker/
CATEGORIES:Telefonsprechstunde
END:VEVENT
BEGIN:VEVENT
DTSTART;TZID=Europe/Paris:20251030T190000
DTEND;TZID=Europe/Paris:20251030T200000
DTSTAMP:20260423T134238
CREATED:20250505T091513Z
LAST-MODIFIED:20250506T083508Z
UID:14355-1761850800-1761854400@uwg-meinerzhagen.de
SUMMARY:30.10.2025 | 19:00 - 20:00 | Fraktionssitzung
DESCRIPTION:Datum/Zeit30/10/202519:00 – 20:00Hier sind alle Interessierten herzlich eingeladen. Senden Sie vorab bitte eine E-Mail an uns.Uhrzeit: 19:00 UhrHaus Hahnenbecke in Meinerzhagen
URL:https://uwg-meinerzhagen.de/event/30-10-2025-1800-1900-fraktionssitzung/
CATEGORIES:Sonstiges
END:VEVENT
BEGIN:VEVENT
DTSTART;TZID=Europe/Paris:20251029T190000
DTEND;TZID=Europe/Paris:20251029T200000
DTSTAMP:20260423T134238
CREATED:20250903T070511Z
LAST-MODIFIED:20250903T070607Z
UID:14597-1761764400-1761768000@uwg-meinerzhagen.de
SUMMARY:29.10.2025 | 19:00 - 20:00 | Telefonsprechstunde mit Annegret Benger
DESCRIPTION:Datum/Zeit29/10/202519:00 – 20:00 \n\n\n\nUWG-Telefonsprechstunde mit Annegret Benger unter 0157 74167209
URL:https://uwg-meinerzhagen.de/event/29-19-2025-1900-2000-telefonsprechstunde-mit-annegret-benger/
END:VEVENT
BEGIN:VEVENT
DTSTART;TZID=Europe/Paris:20251022T180000
DTEND;TZID=Europe/Paris:20251022T190000
DTSTAMP:20260423T134238
CREATED:20250630T102817Z
LAST-MODIFIED:20250630T102830Z
UID:14529-1761156000-1761159600@uwg-meinerzhagen.de
SUMMARY:22.10.2025 | 18:00 - 19:00 | Telefonsprechstunde mit Lukas Gierak
DESCRIPTION:Datum/Zeit22/10/202518:00 – 19:00 \nUWG-Telefonsprechstunde mit Lukas Gierak unter 0175 – 958 31 02Per E-Mail: l.gierak@uwg-meinerzhagen.de
URL:https://uwg-meinerzhagen.de/event/22-10-2025-1800-1900-telefonsprechstunde-mit-lukas-gierak/
CATEGORIES:Telefonsprechstunde
END:VEVENT
BEGIN:VEVENT
DTSTART;TZID=Europe/Paris:20251013T180000
DTEND;TZID=Europe/Paris:20251013T190000
DTSTAMP:20260423T134238
CREATED:20250630T102211Z
LAST-MODIFIED:20250630T102227Z
UID:14526-1760378400-1760382000@uwg-meinerzhagen.de
SUMMARY:13.10.2025 | 18:00 - 19:00 | Telefonsprechstunde mit Eduard Birt
DESCRIPTION:Datum/Zeit13/10/202518:00 – 19:00 \nUWG-Telefonsprechstunde mit Eduard Birt unter 0157 – 719 702 43 oder per WhatsAppPer E-Mail: e.birt@uwg-meinerzhagen.de
URL:https://uwg-meinerzhagen.de/event/13-10-2025-1800-1900-telefonsprechstunde-mit-eduard-birt/
CATEGORIES:Telefonsprechstunde
END:VEVENT
BEGIN:VEVENT
DTSTART;TZID=Europe/Paris:20251008T190000
DTEND;TZID=Europe/Paris:20251008T200000
DTSTAMP:20260423T134238
CREATED:20250903T070140Z
LAST-MODIFIED:20250903T070156Z
UID:14595-1759950000-1759953600@uwg-meinerzhagen.de
SUMMARY:08.10.2025 | 19:00 - 20:00 | Telefonsprechstunde mit Annegret Benger
DESCRIPTION:Datum/Zeit08/10/202519:00 – 20:00 \n\n\n\nUWG-Telefonsprechstunde mit Annegret Benger unter 0157 74167209
URL:https://uwg-meinerzhagen.de/event/08-10-2025-1900-2000-telefonsprechstunde-mit-annegret-benger/
END:VEVENT
END:VCALENDAR