BEGIN:VCALENDAR
VERSION:2.0
PRODID:-//UWG Meinerzhagen - ECPv6.15.20//NONSGML v1.0//EN
CALSCALE:GREGORIAN
METHOD:PUBLISH
X-WR-CALNAME:UWG Meinerzhagen
X-ORIGINAL-URL:https://uwg-meinerzhagen.de
X-WR-CALDESC:Veranstaltungen für UWG Meinerzhagen
REFRESH-INTERVAL;VALUE=DURATION:PT1H
X-Robots-Tag:noindex
X-PUBLISHED-TTL:PT1H
BEGIN:VTIMEZONE
TZID:Europe/Paris
BEGIN:DAYLIGHT
TZOFFSETFROM:+0100
TZOFFSETTO:+0200
TZNAME:CEST
DTSTART:20250330T010000
END:DAYLIGHT
BEGIN:STANDARD
TZOFFSETFROM:+0200
TZOFFSETTO:+0100
TZNAME:CET
DTSTART:20251026T010000
END:STANDARD
BEGIN:DAYLIGHT
TZOFFSETFROM:+0100
TZOFFSETTO:+0200
TZNAME:CEST
DTSTART:20260329T010000
END:DAYLIGHT
BEGIN:STANDARD
TZOFFSETFROM:+0200
TZOFFSETTO:+0100
TZNAME:CET
DTSTART:20261025T010000
END:STANDARD
BEGIN:DAYLIGHT
TZOFFSETFROM:+0100
TZOFFSETTO:+0200
TZNAME:CEST
DTSTART:20270328T010000
END:DAYLIGHT
BEGIN:STANDARD
TZOFFSETFROM:+0200
TZOFFSETTO:+0100
TZNAME:CET
DTSTART:20271031T010000
END:STANDARD
END:VTIMEZONE
BEGIN:VEVENT
DTSTART;TZID=Europe/Paris:20260422T180000
DTEND;TZID=Europe/Paris:20260422T190000
DTSTAMP:20260421T100932
CREATED:20260105T134813Z
LAST-MODIFIED:20260105T134831Z
UID:14668-1776880800-1776884400@uwg-meinerzhagen.de
SUMMARY:22.04.2026 | 18:00 - 19:00 | Telefonsprechstunde mit Eduard Birt
DESCRIPTION:Datum/Zeit22/04/202618:00 – 19:00 \nUWG-Telefonsprechstunde mit Eduard Birt unter 0157 – 719 702 43  
URL:https://uwg-meinerzhagen.de/event/22-04-2026-1800-1900-telefonsprechstunde-mit-eduard-birt/
CATEGORIES:Telefonsprechstunde
END:VEVENT
BEGIN:VEVENT
DTSTART;TZID=Europe/Paris:20260427T180000
DTEND;TZID=Europe/Paris:20260427T190000
DTSTAMP:20260421T100932
CREATED:20260105T135048Z
LAST-MODIFIED:20260105T135108Z
UID:14674-1777312800-1777316400@uwg-meinerzhagen.de
SUMMARY:27.04.2026 | 18:00 - 19:00 | Telefonsprechstunde mit Ewa Budna
DESCRIPTION:Datum/Zeit27/04/202618:00 – 19:00 \nUWG-Telefonsprechstunde mit Ewa Budna unter 0172 – 957 62 05  
URL:https://uwg-meinerzhagen.de/event/27-04-2026-1800-1900-telefonsprechstunde-mit-ewa-budna/
CATEGORIES:Telefonsprechstunde
END:VEVENT
BEGIN:VEVENT
DTSTART;TZID=Europe/Paris:20260506T180000
DTEND;TZID=Europe/Paris:20260506T190000
DTSTAMP:20260421T100932
CREATED:20260105T134915Z
LAST-MODIFIED:20260105T134935Z
UID:14671-1778090400-1778094000@uwg-meinerzhagen.de
SUMMARY:06.05.2026 | 18:00 - 19:00 | Telefonsprechstunde mit Eduard Birt
DESCRIPTION:Datum/Zeit06/05/202618:00 – 19:00 \nUWG-Telefonsprechstunde mit Eduard Birt unter 0157 – 719 702 43  
URL:https://uwg-meinerzhagen.de/event/06-05-2026-1800-1900-telefonsprechstunde-mit-eduard-birt/
CATEGORIES:Telefonsprechstunde
END:VEVENT
BEGIN:VEVENT
DTSTART;TZID=Europe/Paris:20260513T180000
DTEND;TZID=Europe/Paris:20260513T190000
DTSTAMP:20260421T100932
CREATED:20260105T135220Z
LAST-MODIFIED:20260105T135241Z
UID:14677-1778695200-1778698800@uwg-meinerzhagen.de
SUMMARY:13.05.2026 | 18:00 - 19:00 | Telefonsprechstunde mit Riccardo Menzel
DESCRIPTION:Datum/Zeit13/05/202618:00 – 19:00 \nUWG-Telefonsprechstunde mit Riccardo Menzel unter 0170 – 925 73 99  
URL:https://uwg-meinerzhagen.de/event/13-05-2026-1800-1900-telefonsprechstunde-mit-riccardo-menzel/
CATEGORIES:Telefonsprechstunde
END:VEVENT
BEGIN:VEVENT
DTSTART;TZID=Europe/Paris:20260522T180000
DTEND;TZID=Europe/Paris:20260522T190000
DTSTAMP:20260421T100932
CREATED:20260105T135356Z
LAST-MODIFIED:20260105T135414Z
UID:14680-1779472800-1779476400@uwg-meinerzhagen.de
SUMMARY:22.05.2026 | 18:00 - 19:00 | Telefonsprechstunde mit Raimo Benger
DESCRIPTION:Datum/Zeit22/05/202618:00 – 19:00 \nUWG-Telefonsprechstunde mit Raimo Benger unter 0170 – 569 16 91  
URL:https://uwg-meinerzhagen.de/event/22-05-2026-1800-1900-telefonsprechstunde-mit-raimo-benger/
CATEGORIES:Telefonsprechstunde
END:VEVENT
BEGIN:VEVENT
DTSTART;TZID=Europe/Paris:20260528T190000
DTEND;TZID=Europe/Paris:20260528T200000
DTSTAMP:20260421T100932
CREATED:20260105T135636Z
LAST-MODIFIED:20260105T135652Z
UID:14684-1779994800-1779998400@uwg-meinerzhagen.de
SUMMARY:28.05.2026 | 19:00 - 20:00 | Telefonsprechstunde mit Annegret Benger
DESCRIPTION:Datum/Zeit28/05/202619:00 – 20:00 \nUWG-Telefonsprechstunde mit Annegret Benger unter 0157 – 741 672 09  
URL:https://uwg-meinerzhagen.de/event/28-05-2026-1900-2000-telefonsprechstunde-mit-annegret-benger/
CATEGORIES:Telefonsprechstunde
END:VEVENT
BEGIN:VEVENT
DTSTART;TZID=Europe/Paris:20260603T180000
DTEND;TZID=Europe/Paris:20260603T190000
DTSTAMP:20260421T100932
CREATED:20260105T135817Z
LAST-MODIFIED:20260105T135832Z
UID:14687-1780509600-1780513200@uwg-meinerzhagen.de
SUMMARY:03.06.2026 | 18:00 - 19:00 | Telefonsprechstunde mit Anja Willms
DESCRIPTION:Datum/Zeit03/06/202618:00 – 19:00 \nUWG-Telefonsprechstunde mit Anja Willms unter 0174 – 947 62 65  
URL:https://uwg-meinerzhagen.de/event/03-06-2026-1800-1900-telefonsprechstunde-mit-anja-willms/
CATEGORIES:Telefonsprechstunde
END:VEVENT
BEGIN:VEVENT
DTSTART;TZID=Europe/Paris:20260609T170000
DTEND;TZID=Europe/Paris:20260609T180000
DTSTAMP:20260421T100932
CREATED:20260105T140008Z
LAST-MODIFIED:20260105T140055Z
UID:14690-1781024400-1781028000@uwg-meinerzhagen.de
SUMMARY:09.06.2026 | 17:00 - 18:00 | Telefonsprechstunde mit Lukas Gierak
DESCRIPTION:Datum/Zeit09/06/202617:00 – 18:00 \nUWG-Telefonsprechstunde mit Lukas Gierak unter 0175 – 958 31 02  
URL:https://uwg-meinerzhagen.de/event/09-06-2026-1700-1800-telefonsprechstunde-mit-lukas-gierak/
CATEGORIES:Telefonsprechstunde
END:VEVENT
BEGIN:VEVENT
DTSTART;TZID=Europe/Paris:20260617T180000
DTEND;TZID=Europe/Paris:20260617T190000
DTSTAMP:20260421T100932
CREATED:20260105T141027Z
LAST-MODIFIED:20260105T141111Z
UID:14693-1781719200-1781722800@uwg-meinerzhagen.de
SUMMARY:17.06.2026 | 18:00 - 19:00 | Telefonsprechstunde mit Thomas Breker
DESCRIPTION:Datum/Zeit17/06/202618:00 – 19:00 \nUWG-Telefonsprechstunde mit Thomas Breker unter 0152 – 017 679 49  
URL:https://uwg-meinerzhagen.de/event/17-06-2026-1800-1900-telefonsprechstunde-mit-thomas-breker/
CATEGORIES:Telefonsprechstunde
END:VEVENT
BEGIN:VEVENT
DTSTART;TZID=Europe/Paris:20260626T180000
DTEND;TZID=Europe/Paris:20260626T190000
DTSTAMP:20260421T100932
CREATED:20260105T141056Z
LAST-MODIFIED:20260105T141707Z
UID:14696-1782496800-1782500400@uwg-meinerzhagen.de
SUMMARY:26.06.2026 | 18:00 - 19:00 | Telefonsprechstunde mit Raimo Benger
DESCRIPTION:Datum/Zeit26/06/202618:00 – 19:00 \nUWG-Telefonsprechstunde mit Raimo Benger unter 0170 – 569 16 91  
URL:https://uwg-meinerzhagen.de/event/26-06-2026-1800-1900-telefonsprechstunde-mit-raimo-benger/
CATEGORIES:Telefonsprechstunde
END:VEVENT
END:VCALENDAR