BEGIN:VCALENDAR
VERSION:2.0
PRODID:-//UWG Meinerzhagen - ECPv6.15.20//NONSGML v1.0//EN
CALSCALE:GREGORIAN
METHOD:PUBLISH
X-WR-CALNAME:UWG Meinerzhagen
X-ORIGINAL-URL:https://uwg-meinerzhagen.de
X-WR-CALDESC:Veranstaltungen für UWG Meinerzhagen
REFRESH-INTERVAL;VALUE=DURATION:PT1H
X-Robots-Tag:noindex
X-PUBLISHED-TTL:PT1H
BEGIN:VTIMEZONE
TZID:Europe/Paris
BEGIN:DAYLIGHT
TZOFFSETFROM:+0100
TZOFFSETTO:+0200
TZNAME:CEST
DTSTART:20240331T010000
END:DAYLIGHT
BEGIN:STANDARD
TZOFFSETFROM:+0200
TZOFFSETTO:+0100
TZNAME:CET
DTSTART:20241027T010000
END:STANDARD
BEGIN:DAYLIGHT
TZOFFSETFROM:+0100
TZOFFSETTO:+0200
TZNAME:CEST
DTSTART:20250330T010000
END:DAYLIGHT
BEGIN:STANDARD
TZOFFSETFROM:+0200
TZOFFSETTO:+0100
TZNAME:CET
DTSTART:20251026T010000
END:STANDARD
BEGIN:DAYLIGHT
TZOFFSETFROM:+0100
TZOFFSETTO:+0200
TZNAME:CEST
DTSTART:20260329T010000
END:DAYLIGHT
BEGIN:STANDARD
TZOFFSETFROM:+0200
TZOFFSETTO:+0100
TZNAME:CET
DTSTART:20261025T010000
END:STANDARD
END:VTIMEZONE
BEGIN:VEVENT
DTSTART;TZID=Europe/Paris:20250924T180000
DTEND;TZID=Europe/Paris:20250924T190000
DTSTAMP:20260423T181556
CREATED:20250630T101809Z
LAST-MODIFIED:20250630T101822Z
UID:14523-1758736800-1758740400@uwg-meinerzhagen.de
SUMMARY:24.09.2025 | 18:00 - 19:00 | Telefonsprechstunde mit Anja Willms
DESCRIPTION:Datum/Zeit24/09/202518:00 – 19:00 \nUWG-Telefonsprechstunde mit Anja Willms unter 0174 – 947 62 65 
URL:https://uwg-meinerzhagen.de/event/24-09-2025-1800-1900-telefonsprechstunde-mit-anja-willms/
CATEGORIES:Telefonsprechstunde
END:VEVENT
END:VCALENDAR