BEGIN:VCALENDAR
VERSION:2.0
PRODID:-//UWG Meinerzhagen - ECPv6.15.20//NONSGML v1.0//EN
CALSCALE:GREGORIAN
METHOD:PUBLISH
X-WR-CALNAME:UWG Meinerzhagen
X-ORIGINAL-URL:https://uwg-meinerzhagen.de
X-WR-CALDESC:Veranstaltungen für UWG Meinerzhagen
REFRESH-INTERVAL;VALUE=DURATION:PT1H
X-Robots-Tag:noindex
X-PUBLISHED-TTL:PT1H
BEGIN:VTIMEZONE
TZID:Europe/Paris
BEGIN:DAYLIGHT
TZOFFSETFROM:+0100
TZOFFSETTO:+0200
TZNAME:CEST
DTSTART:20240331T010000
END:DAYLIGHT
BEGIN:STANDARD
TZOFFSETFROM:+0200
TZOFFSETTO:+0100
TZNAME:CET
DTSTART:20241027T010000
END:STANDARD
BEGIN:DAYLIGHT
TZOFFSETFROM:+0100
TZOFFSETTO:+0200
TZNAME:CEST
DTSTART:20250330T010000
END:DAYLIGHT
BEGIN:STANDARD
TZOFFSETFROM:+0200
TZOFFSETTO:+0100
TZNAME:CET
DTSTART:20251026T010000
END:STANDARD
BEGIN:DAYLIGHT
TZOFFSETFROM:+0100
TZOFFSETTO:+0200
TZNAME:CEST
DTSTART:20260329T010000
END:DAYLIGHT
BEGIN:STANDARD
TZOFFSETFROM:+0200
TZOFFSETTO:+0100
TZNAME:CET
DTSTART:20261025T010000
END:STANDARD
END:VTIMEZONE
BEGIN:VEVENT
DTSTART;TZID=Europe/Paris:20251121T170000
DTEND;TZID=Europe/Paris:20251121T180000
DTSTAMP:20260423T183222
CREATED:20250630T104711Z
LAST-MODIFIED:20250630T104713Z
UID:14538-1763744400-1763748000@uwg-meinerzhagen.de
SUMMARY:21.11.2025 | 17:00 - 18:00 | Telefonsprechstunde mit Riccardo Menzel
DESCRIPTION:Datum/Zeit21/11/202517:00 – 18:00 \nUWG-Telefonsprechstunde mit Eduard Birt unter 0170 – 925 73 99 oder per WhatsAppPer E-Mail: r.menzel@uwg-meinerzhagen.de
URL:https://uwg-meinerzhagen.de/event/21-11-2025-1700-1800-telefonsprechstunde-mit-riccardo-menzel/
CATEGORIES:Telefonsprechstunde
END:VEVENT
END:VCALENDAR