BEGIN:VCALENDAR
VERSION:2.0
PRODID:-//UWG Meinerzhagen - ECPv6.15.20//NONSGML v1.0//EN
CALSCALE:GREGORIAN
METHOD:PUBLISH
X-WR-CALNAME:UWG Meinerzhagen
X-ORIGINAL-URL:https://uwg-meinerzhagen.de
X-WR-CALDESC:Veranstaltungen für UWG Meinerzhagen
REFRESH-INTERVAL;VALUE=DURATION:PT1H
X-Robots-Tag:noindex
X-PUBLISHED-TTL:PT1H
BEGIN:VTIMEZONE
TZID:Europe/Paris
BEGIN:DAYLIGHT
TZOFFSETFROM:+0100
TZOFFSETTO:+0200
TZNAME:CEST
DTSTART:20240331T010000
END:DAYLIGHT
BEGIN:STANDARD
TZOFFSETFROM:+0200
TZOFFSETTO:+0100
TZNAME:CET
DTSTART:20241027T010000
END:STANDARD
BEGIN:DAYLIGHT
TZOFFSETFROM:+0100
TZOFFSETTO:+0200
TZNAME:CEST
DTSTART:20250330T010000
END:DAYLIGHT
BEGIN:STANDARD
TZOFFSETFROM:+0200
TZOFFSETTO:+0100
TZNAME:CET
DTSTART:20251026T010000
END:STANDARD
BEGIN:DAYLIGHT
TZOFFSETFROM:+0100
TZOFFSETTO:+0200
TZNAME:CEST
DTSTART:20260329T010000
END:DAYLIGHT
BEGIN:STANDARD
TZOFFSETFROM:+0200
TZOFFSETTO:+0100
TZNAME:CET
DTSTART:20261025T010000
END:STANDARD
END:VTIMEZONE
BEGIN:VEVENT
DTSTART;TZID=Europe/Paris:20251001T190000
DTEND;TZID=Europe/Paris:20251001T200000
DTSTAMP:20260423T181317
CREATED:20250903T065820Z
LAST-MODIFIED:20250903T065835Z
UID:14593-1759345200-1759348800@uwg-meinerzhagen.de
SUMMARY:01.10.2025 | 19:00 - 20:00 | Telefonsprechstunde mit Annegret Benger
DESCRIPTION:Datum/Zeit01/10/202519:00 – 20:00 \n\n\n\nUWG-Telefonsprechstunde mit Annegret Benger unter 0157 74167209 
URL:https://uwg-meinerzhagen.de/event/01-10-2025-1900-2000-telefonsprechstunde-mit-annegret-benger/
END:VEVENT
END:VCALENDAR